BEGIN:VCALENDAR
VERSION:2.0
PRODID:-//N2CR - ECPv6.15.20//NONSGML v1.0//EN
CALSCALE:GREGORIAN
METHOD:PUBLISH
X-WR-CALNAME:N2CR
X-ORIGINAL-URL:https://medicine.nus.edu.sg/trp/n2cr
X-WR-CALDESC:Events for N2CR
REFRESH-INTERVAL;VALUE=DURATION:PT1H
X-Robots-Tag:noindex
X-PUBLISHED-TTL:PT1H
BEGIN:VTIMEZONE
TZID:Asia/Singapore
BEGIN:STANDARD
TZOFFSETFROM:+0800
TZOFFSETTO:+0800
TZNAME:+08
DTSTART:20230101T000000
END:STANDARD
END:VTIMEZONE
BEGIN:VEVENT
DTSTART;TZID=Asia/Singapore:20240409T160000
DTEND;TZID=Asia/Singapore:20240409T170000
DTSTAMP:20260424T105605
CREATED:20240321T080417Z
LAST-MODIFIED:20240321T080417Z
UID:10000141-1712678400-1712682000@medicine.nus.edu.sg
SUMMARY:N2CR Invited Speaker Seminar - Dr Uri Ben-David
DESCRIPTION:
URL:https://medicine.nus.edu.sg/trp/n2cr/event/n2cr-invited-speaker-seminar-dr-uri-ben-david/
CATEGORIES:Events
ATTACH;FMTTYPE=image/png:https://medicine.nus.edu.sg/trp/n2cr/wp-content/uploads/sites/8/2024/03/Thematic-poster-templates-7-1.png
END:VEVENT
END:VCALENDAR