BEGIN:VCALENDAR
VERSION:2.0
PRODID:-//N2CR - ECPv6.15.20//NONSGML v1.0//EN
CALSCALE:GREGORIAN
METHOD:PUBLISH
X-WR-CALNAME:N2CR
X-ORIGINAL-URL:https://medicine.nus.edu.sg/trp/n2cr
X-WR-CALDESC:Events for N2CR
REFRESH-INTERVAL;VALUE=DURATION:PT1H
X-Robots-Tag:noindex
X-PUBLISHED-TTL:PT1H
BEGIN:VTIMEZONE
TZID:Asia/Singapore
BEGIN:STANDARD
TZOFFSETFROM:+0800
TZOFFSETTO:+0800
TZNAME:+08
DTSTART:20220101T000000
END:STANDARD
END:VTIMEZONE
BEGIN:VEVENT
DTSTART;TZID=Asia/Singapore:20230428T120000
DTEND;TZID=Asia/Singapore:20230428T130000
DTSTAMP:20260424T111524
CREATED:20230410T013902Z
LAST-MODIFIED:20230410T013902Z
UID:10000212-1682683200-1682686800@medicine.nus.edu.sg
SUMMARY:2nd N2CR Post-doc Club
DESCRIPTION:
URL:https://medicine.nus.edu.sg/trp/n2cr/event/2nd-n2cr-post-doc-club/
ATTACH;FMTTYPE=image/jpeg:https://medicine.nus.edu.sg/trp/n2cr/wp-content/uploads/sites/8/2023/04/IMG_2781-scaled.jpg
END:VEVENT
END:VCALENDAR