BEGIN:VCALENDAR
VERSION:2.0
PRODID:-//N2CR - ECPv6.15.20//NONSGML v1.0//EN
CALSCALE:GREGORIAN
METHOD:PUBLISH
X-WR-CALNAME:N2CR
X-ORIGINAL-URL:https://medicine.nus.edu.sg/trp/n2cr
X-WR-CALDESC:Events for N2CR
REFRESH-INTERVAL;VALUE=DURATION:PT1H
X-Robots-Tag:noindex
X-PUBLISHED-TTL:PT1H
BEGIN:VTIMEZONE
TZID:Asia/Singapore
BEGIN:STANDARD
TZOFFSETFROM:+0800
TZOFFSETTO:+0800
TZNAME:+08
DTSTART:20250101T000000
END:STANDARD
END:VTIMEZONE
BEGIN:VEVENT
DTSTART;TZID=Asia/Singapore:20260422T120000
DTEND;TZID=Asia/Singapore:20260422T123000
DTSTAMP:20260422T093615
CREATED:20260326T024803Z
LAST-MODIFIED:20260326T024925Z
UID:10000282-1776859200-1776861000@medicine.nus.edu.sg
SUMMARY:Lunch and Learn Seminar: Unlock mRNA\, miRNA and ncRNA at the Single Cell Level - 22 April 2026\, 12 pm
DESCRIPTION:Dear all\,  \n\n\nYou are warmly invited to a ‘Lunch & Learn’ seminar presented by Singleron\, and co-hosted by N2CR\, ncRNA\, and NUS Medicine Microscopy Cluster. \nWe encourage you to join us for this exciting session\, especially if you: \n\n\n\nWork with FFPE samples and want to unlock the full transcriptome\n\n\n\n\nAre looking to profile coding and non-coding RNAs\n\n\nWhy settle for probe-based method when you can capture more? Lunch is included as Singleron reveals how their latest single cell solution can transform your research! \nSeminar details: \n\n\nTitle: Whole Transcriptome Profiling – Unlocking mRNA\, miRNA and ncRNA at the Single Cell Level\nDate: 22 April 2026 (Wednesday)\n\n\n\n\nTime: 12pm-12:30pm (Lunch will be provided after the seminar)\n\n\n\n\nVenue: MD1-03-01C (3rd Floor All-Purpose Room)\, MD1\, NUS \n\n\nRegister for the seminar today: 2026 MD1 FFPE Seminar – Singleron \nThank you & regards\, \nN2CR Admin
URL:https://medicine.nus.edu.sg/trp/n2cr/event/lunch-and-learn-seminar-unlock-mrna-mirna-and-ncrna-at-the-single-cell-level-22-april-2026-12-pm/
LOCATION:MD1-03-01C (3rd Floor All-Purpose Room)\, MD1\, NUS\, Singapore
CATEGORIES:Events
ATTACH;FMTTYPE=image/jpeg:https://medicine.nus.edu.sg/trp/n2cr/wp-content/uploads/sites/8/2026/03/Singleron-Lunch-and-Learn_22-April-2026_page-0001.jpg
END:VEVENT
END:VCALENDAR