BEGIN:VCALENDAR
VERSION:2.0
PRODID:-//Your Company//Your Product//EN
CALSCALE:GREGORIAN
BEGIN:VEVENT
UID:69e5806ea6a86@yourdomain.com
DTSTAMP:20260420T012502Z
DTSTART:20230923T090000Z
DTEND:20230923T170000Z
SUMMARY:Learning How to Learn: The Science Behind Learning and Memory
DESCRIPTION:Speaker: NA\nAffiliation: NA\nHost: NA\nVenue: TBC
LOCATION:TBC
END:VEVENT
END:VCALENDAR
